BEGIN:VCALENDAR
VERSION:2.0
PRODID:-//hacksw/handcal//NONSGML v1.0//EN
BEGIN:VEVENT
DTSTAMP:20230421T220000Z
DTSTART:20230421T220000Z
DTEND:20230513T220000Z
LOCATION:Rondeel, Ahrensburg, 22926, Deutschland
SUMMARY:CDU Ahrensburg - Übersicht Wahlkampftermine
END:VEVENT
END:VCALENDAR
