BEGIN:VCALENDAR
VERSION:2.0
PRODID:-//hacksw/handcal//NONSGML v1.0//EN
BEGIN:VEVENT
DTSTAMP:20230509T163000Z
DTSTART:20230509T163000Z
DTEND:20230509T163000Z
LOCATION:M.M.Warburg & CO --> Bitte melden Sie sich bis zum 05. Mai 2023 an! , Ferdinandstraße 75, Hamburg, 20095, Deutschland
SUMMARY:MIT Stormarn - Themenabend in der Warburgbank
END:VEVENT
END:VCALENDAR
