BEGIN:VCALENDAR
VERSION:2.0
PRODID:-//hacksw/handcal//NONSGML v1.0//EN
BEGIN:VEVENT
DTSTAMP:20230908T130000Z
DTSTART:20230908T130000Z
DTEND:20230908T130000Z
LOCATION:Grillpavillon des TSV Glinde, Glinde, 21509, Deutschland
SUMMARY:CDU Glinde - Einladung zum Grillen & Schnacken
END:VEVENT
END:VCALENDAR
