BEGIN:VCALENDAR
VERSION:2.0
PRODID:-//hacksw/handcal//NONSGML v1.0//EN
BEGIN:VEVENT
DTSTAMP:20230911T160000Z
DTSTART:20230911T160000Z
DTEND:20230911T160000Z
LOCATION:Braaker Krug, Am Spötzen 1, Braak, 22145, Deutschland
SUMMARY:MIT Stormarn - Wofür steht CDU heute? Lukas Kilian (Generalsekretär CDU SH)
END:VEVENT
END:VCALENDAR
