BEGIN:VCALENDAR
VERSION:2.0
PRODID:-//hacksw/handcal//NONSGML v1.0//EN
BEGIN:VEVENT
DTSTAMP:20231102T180000Z
DTSTART:20231102T180000Z
DTEND:20231102T180000Z
LOCATION:Landhaus Schäfer, Grönwohlder Str. 1, Lütjensee, 22952, Deutschland
SUMMARY:CDU Stormarn - Legalisierung von Cannabis kritisch beleuchtet
END:VEVENT
END:VCALENDAR
