BEGIN:VCALENDAR
VERSION:2.0
PRODID:-//hacksw/handcal//NONSGML v1.0//EN
BEGIN:VEVENT
DTSTAMP:20231101T183000Z
DTSTART:20231101T183000Z
DTEND:20231101T183000Z
LOCATION:im Gemeinschaftshaus, Schulstraße 1, Pölitz, 23847, Deutschland
SUMMARY:CDU Pölitz - Mitgliederversammlung
END:VEVENT
END:VCALENDAR
