BEGIN:VCALENDAR
VERSION:2.0
PRODID:-//hacksw/handcal//NONSGML v1.0//EN
BEGIN:VEVENT
DTSTAMP:20231127T180000Z
DTSTART:20231127T180000Z
DTEND:20231127T180000Z
LOCATION:Hotel Wiggers, Bahnhofsstr. 33, Bad Oldesloe, 23843, Deutschland
SUMMARY:CDU Bad Oldesloe - mitgliederoffene Vorstandssitzung
END:VEVENT
END:VCALENDAR
