BEGIN:VCALENDAR
VERSION:2.0
PRODID:-//hacksw/handcal//NONSGML v1.0//EN
BEGIN:VEVENT
DTSTAMP:20240107T160000Z
DTSTART:20240107T160000Z
DTEND:20240107T160000Z
LOCATION:Elisabeth-Selbert-Zimmer des Bürgerhauses, Markt 2, Glinde, 21509, Deutschland
SUMMARY:JU Glinde - Fest zum 50. Jubiläum
END:VEVENT
END:VCALENDAR
