BEGIN:VCALENDAR
VERSION:2.0
PRODID:-//hacksw/handcal//NONSGML v1.0//EN
BEGIN:VEVENT
DTSTAMP:20240121T100000Z
DTSTART:20240121T100000Z
DTEND:20240121T100000Z
LOCATION:Gemeinschaftshaus, Buchrader Weg 2, Rethwisch, 23847, Deutschland
SUMMARY:CDU Rethwisch - Neujahrsempfang mit Gastrednerin Marion Schiefer (MdL)
END:VEVENT
END:VCALENDAR
