BEGIN:VCALENDAR
VERSION:2.0
PRODID:-//hacksw/handcal//NONSGML v1.0//EN
BEGIN:VEVENT
DTSTAMP:20240809T220000Z
DTSTART:20240809T220000Z
DTEND:20240809T220000Z
LOCATION:Mehr Infos beim Ortsvorsitzenden Horst Lassen, Hammoor, 22941, Deutschland
SUMMARY:CDU Hammoor - Storchenfest
END:VEVENT
END:VCALENDAR
