BEGIN:VCALENDAR
VERSION:2.0
PRODID:-//hacksw/handcal//NONSGML v1.0//EN
BEGIN:VEVENT
DTSTAMP:20241204T230000Z
DTSTART:20241204T230000Z
DTEND:20241204T230000Z
LOCATION:Deutschland
SUMMARY:SU Tremsbüttel / Hammoor - Weihnachtsmarkt Buxtehude
END:VEVENT
END:VCALENDAR
