BEGIN:VCALENDAR
VERSION:2.0
PRODID:-//hacksw/handcal//NONSGML v1.0//EN
BEGIN:VEVENT
DTSTAMP:20240123T173000Z
DTSTART:20240123T173000Z
DTEND:20240123T173000Z
LOCATION:in der Kanzlei Stefan Dehns, Rathausstraße 28, Bargteheide, 22941, Deutschland
SUMMARY:CDU Stormarn - Arbeitskreis 6 - Bürokratieabbau
END:VEVENT
END:VCALENDAR
