BEGIN:VCALENDAR
VERSION:2.0
PRODID:-//hacksw/handcal//NONSGML v1.0//EN
BEGIN:VEVENT
DTSTAMP:20240203T100000Z
DTSTART:20240203T100000Z
DTEND:20240203T100000Z
LOCATION:Restaurant Zum Kamin, Berliner Ring 41, Bad Oldesloe, 23843, Deutschland
SUMMARY:CDU Bad Oldesloe - Jahreshauptversammlung inkl. Vorstandswahlen
END:VEVENT
END:VCALENDAR
