BEGIN:VCALENDAR
VERSION:2.0
PRODID:-//hacksw/handcal//NONSGML v1.0//EN
BEGIN:VEVENT
DTSTAMP:20240422T170000Z
DTSTART:20240422T170000Z
DTEND:20240422T170000Z
LOCATION:Festhalle, Olivet-Allee 2, Bad Oldesloe, 23843, Deutschland
SUMMARY:CDU Stormarn - Kreisparteitag mit Innenministerin Dr. Sütterlin-Waack
END:VEVENT
END:VCALENDAR
