BEGIN:VCALENDAR
VERSION:2.0
PRODID:-//hacksw/handcal//NONSGML v1.0//EN
BEGIN:VEVENT
DTSTAMP:20240314T180000Z
DTSTART:20240314T180000Z
DTEND:20240314T180000Z
LOCATION:Restaurant Strehl, Reeshoop 50, Ahrensburg, 22926, Deutschland
SUMMARY:CDU Ahrensburg - Jahreshauptversammlung inkl. Vorstandswahlen
END:VEVENT
END:VCALENDAR
