BEGIN:VCALENDAR
VERSION:2.0
PRODID:-//hacksw/handcal//NONSGML v1.0//EN
BEGIN:VEVENT
DTSTAMP:20240514T170000Z
DTSTART:20240514T170000Z
DTEND:20240514T170000Z
LOCATION:Landeshaus bzw. Online, Düsternbrooker Weg 70, Kiel, 24105, Deutschland
SUMMARY:KPV Schleswig-Holstein - Gedankenaustausch "Verkehrspolitik"
END:VEVENT
END:VCALENDAR
