BEGIN:VCALENDAR
VERSION:2.0
PRODID:-//hacksw/handcal//NONSGML v1.0//EN
BEGIN:VEVENT
DTSTAMP:20240417T170000Z
DTSTART:20240417T170000Z
DTEND:20240417T170000Z
LOCATION:Anmeldung zur Onlinesitzung unter kontakt@cdu-stormarn.de, Deutschland
SUMMARY:CDU Stormarn - Online-Sitzung d. Arbeitskreises Entbürokratisierung (AK-6) 
END:VEVENT
END:VCALENDAR
