BEGIN:VCALENDAR
VERSION:2.0
PRODID:-//hacksw/handcal//NONSGML v1.0//EN
BEGIN:VEVENT
DTSTAMP:20240521T070000Z
DTSTART:20240521T070000Z
DTEND:20240521T070000Z
LOCATION:Café Braaker Mühle, Braaker Mühle 8, Braak, 22145, Deutschland
SUMMARY:MIT Stormarn - Einladung zum Frühstück „Quo vadis, Geldpolitik?"
END:VEVENT
END:VCALENDAR
