BEGIN:VCALENDAR
VERSION:2.0
PRODID:-//hacksw/handcal//NONSGML v1.0//EN
BEGIN:VEVENT
DTSTAMP:20240526T120000Z
DTSTART:20240526T120000Z
DTEND:20240526T120000Z
LOCATION:Raum F 22, Mommsenstraße 14, Bad Oldesloe, 23843, Deutschland
SUMMARY:JU Stormarn - Kreisverbandstag (inkl. Vorstandswahlen)
END:VEVENT
END:VCALENDAR
