BEGIN:VCALENDAR
VERSION:2.0
PRODID:-//hacksw/handcal//NONSGML v1.0//EN
BEGIN:VEVENT
DTSTAMP:20240615T120000Z
DTSTART:20240615T120000Z
DTEND:20240615T120000Z
LOCATION:Ratzeburg, Deutschland
SUMMARY:JU Stormarn & JU Herzogtum Lauenburg - Sommerfest 2024
END:VEVENT
END:VCALENDAR
