BEGIN:VCALENDAR
VERSION:2.0
PRODID:-//hacksw/handcal//NONSGML v1.0//EN
BEGIN:VEVENT
DTSTAMP:20240530T150000Z
DTSTART:20240530T150000Z
DTEND:20240530T150000Z
LOCATION:Rathaus Tangstedt (2. Stock, Sozialraum), Hauptstraße 93, Tangstedt, 22889, Deutschland
SUMMARY:CDA Stormarn - Mitgliederversammlung
END:VEVENT
END:VCALENDAR
