BEGIN:VCALENDAR
VERSION:2.0
PRODID:-//hacksw/handcal//NONSGML v1.0//EN
BEGIN:VEVENT
DTSTAMP:20240626T170000Z
DTSTART:20240626T170000Z
DTEND:20240626T170000Z
LOCATION:Bella-Donna-Haus, Bahnhofstraße 12, Bad Oldesloe, 23843, Deutschland
SUMMARY:CDU Bad Oldesloe - Podiumsdiskussion zum Krankenhaus OD
END:VEVENT
END:VCALENDAR
