BEGIN:VCALENDAR
VERSION:2.0
PRODID:-//hacksw/handcal//NONSGML v1.0//EN
BEGIN:VEVENT
DTSTAMP:20240824T140000Z
DTSTART:20240824T140000Z
DTEND:20240824T140000Z
LOCATION:auf dem Hof vom „Gasthof unter den Linden“ , Grönwohld, Deutschland
SUMMARY:CDU Grönwohld - Grillfest mit Henri Schmidt
END:VEVENT
END:VCALENDAR
