BEGIN:VCALENDAR
VERSION:2.0
PRODID:-//hacksw/handcal//NONSGML v1.0//EN
BEGIN:VEVENT
DTSTAMP:20240709T160000Z
DTSTART:20240709T160000Z
DTEND:20240709T160000Z
LOCATION:Im Seniorendorf, Bahnhofstraße 32, Bargteheide, 22941, Deutschland
SUMMARY:CDU Bargteheide - Meet & Greet mit Melanie Bernstein (MdB)
END:VEVENT
END:VCALENDAR
