BEGIN:VCALENDAR
VERSION:2.0
PRODID:-//hacksw/handcal//NONSGML v1.0//EN
BEGIN:VEVENT
DTSTAMP:20240913T160000Z
DTSTART:20240913T160000Z
DTEND:20240913T160000Z
LOCATION:Rathaussaal des historischen Rathauses Bad Oldesloe,  Hagenstraße 17, Bad Oldesloe, 23843, Deutschland
SUMMARY:CDU Bad Oldesloe - Mitgliederversammlung / Verkehrspolitik in OD
END:VEVENT
END:VCALENDAR
