BEGIN:VCALENDAR
VERSION:2.0
PRODID:-//hacksw/handcal//NONSGML v1.0//EN
BEGIN:VEVENT
DTSTAMP:20240911T170000Z
DTSTART:20240911T170000Z
DTEND:20240911T170000Z
LOCATION:Waldreitersaal , Barkholt 64 , Großhansdorf, 22927, Deutschland
SUMMARY:CDU Stormarn / Herzogtum Lauenburg - Vorstellung der Bewerbungen für WK10
END:VEVENT
END:VCALENDAR
