BEGIN:VCALENDAR
VERSION:2.0
PRODID:-//hacksw/handcal//NONSGML v1.0//EN
BEGIN:VEVENT
DTSTAMP:20240918T170000Z
DTSTART:20240918T170000Z
DTEND:20240918T170000Z
LOCATION:Schloss Reinbek, Schloßstraße 5, Reinbek, 21465, Deutschland
SUMMARY:CDU Stormarn / Herzogtum Lauenburg - Vorstellung der Bewerbungen für WK10
END:VEVENT
END:VCALENDAR
