BEGIN:VCALENDAR
VERSION:2.0
PRODID:-//hacksw/handcal//NONSGML v1.0//EN
BEGIN:VEVENT
DTSTAMP:20241105T183000Z
DTSTART:20241105T183000Z
DTEND:20241105T183000Z
LOCATION:Freiwillige Feuerwehr, Schlamersdorf, Deutschland
SUMMARY:CDU Travenbrück - Jahreshauptversammlung (inkl. Wahlen)
END:VEVENT
END:VCALENDAR
