BEGIN:VCALENDAR
VERSION:2.0
PRODID:-//hacksw/handcal//NONSGML v1.0//EN
BEGIN:VEVENT
DTSTAMP:20241108T180000Z
DTSTART:20241108T180000Z
DTEND:20241108T180000Z
LOCATION:Bürgerhaus (BGH), An der Friedenslinde 3, Delingsdorf, 22941, Deutschland
SUMMARY:CDU Delingsdorf - Jahreshauptversammlung (inkl. Vorstandswahlen)
END:VEVENT
END:VCALENDAR
