BEGIN:VCALENDAR
VERSION:2.0
PRODID:-//hacksw/handcal//NONSGML v1.0//EN
BEGIN:VEVENT
DTSTAMP:20260220T160000Z
DTSTART:20260220T160000Z
DTEND:20260220T160000Z
LOCATION:Bürgerhaus, Mittelweg, Bargfeld-Stegen, Deutschland
SUMMARY:SU Bargfeld-Stegen - Jahreshauptversammlung (inkl. Wahlen)
END:VEVENT
END:VCALENDAR
