BEGIN:VCALENDAR
VERSION:2.0
PRODID:-//hacksw/handcal//NONSGML v1.0//EN
BEGIN:VEVENT
DTSTAMP:20260226T110000Z
DTSTART:20260226T110000Z
DTEND:20260226T110000Z
LOCATION:Braaker Krug, Am Spötzen 1, Braak, 22145, Deutschland
SUMMARY:SU Brunsbek - Jahreshauptversammlung
END:VEVENT
END:VCALENDAR
